BEGIN:VCALENDAR
VERSION:2.0
PRODID:-//Vallda Golf &amp; Country Club - ECPv6.15.15//NONSGML v1.0//EN
CALSCALE:GREGORIAN
METHOD:PUBLISH
X-ORIGINAL-URL:https://valldagolf.se
X-WR-CALDESC:Händelser för Vallda Golf &amp; Country Club
REFRESH-INTERVAL;VALUE=DURATION:PT1H
X-Robots-Tag:noindex
X-PUBLISHED-TTL:PT1H
BEGIN:VTIMEZONE
TZID:Europe/Stockholm
BEGIN:DAYLIGHT
TZOFFSETFROM:+0100
TZOFFSETTO:+0200
TZNAME:CEST
DTSTART:20210328T010000
END:DAYLIGHT
BEGIN:STANDARD
TZOFFSETFROM:+0200
TZOFFSETTO:+0100
TZNAME:CET
DTSTART:20211031T010000
END:STANDARD
BEGIN:DAYLIGHT
TZOFFSETFROM:+0100
TZOFFSETTO:+0200
TZNAME:CEST
DTSTART:20220327T010000
END:DAYLIGHT
BEGIN:STANDARD
TZOFFSETFROM:+0200
TZOFFSETTO:+0100
TZNAME:CET
DTSTART:20221030T010000
END:STANDARD
BEGIN:DAYLIGHT
TZOFFSETFROM:+0100
TZOFFSETTO:+0200
TZNAME:CEST
DTSTART:20230326T010000
END:DAYLIGHT
BEGIN:STANDARD
TZOFFSETFROM:+0200
TZOFFSETTO:+0100
TZNAME:CET
DTSTART:20231029T010000
END:STANDARD
END:VTIMEZONE
BEGIN:VEVENT
DTSTART;VALUE=DATE:20220622
DTEND;VALUE=DATE:20220623
DTSTAMP:20260421T143701
CREATED:20220422T151659Z
LAST-MODIFIED:20220422T151659Z
UID:10000062-1655856000-1655942399@valldagolf.se
SUMMARY:Ricoh/Nordic Juridik (företagsgolf)
DESCRIPTION:
URL:https://valldagolf.se/event/ricoh-nordic-juridik-foretagsgolf/
END:VEVENT
BEGIN:VEVENT
DTSTART;VALUE=DATE:20220623
DTEND;VALUE=DATE:20220624
DTSTAMP:20260421T143701
CREATED:20220422T150347Z
LAST-MODIFIED:20220422T150347Z
UID:10000127-1655942400-1656028799@valldagolf.se
SUMMARY:Damgolfen
DESCRIPTION:
URL:https://valldagolf.se/event/damgolfen/2022-06-23/
END:VEVENT
BEGIN:VEVENT
DTSTART;VALUE=DATE:20220624
DTEND;VALUE=DATE:20220625
DTSTAMP:20260421T143701
CREATED:20220422T150436Z
LAST-MODIFIED:20220422T150436Z
UID:10000020-1656028800-1656115199@valldagolf.se
SUMMARY:Fredagsgolfen (juniorer)
DESCRIPTION:
URL:https://valldagolf.se/event/fredagsgolfen-juniorer/2022-06-24/
END:VEVENT
BEGIN:VEVENT
DTSTART;VALUE=DATE:20220629
DTEND;VALUE=DATE:20220630
DTSTAMP:20260421T143701
CREATED:20220422T151712Z
LAST-MODIFIED:20220422T151712Z
UID:10000061-1656460800-1656547199@valldagolf.se
SUMMARY:Ladies Inviation
DESCRIPTION:
URL:https://valldagolf.se/event/ladies-inviation/
END:VEVENT
BEGIN:VEVENT
DTSTART;VALUE=DATE:20220630
DTEND;VALUE=DATE:20220701
DTSTAMP:20260421T143701
CREATED:20220422T150347Z
LAST-MODIFIED:20220422T150347Z
UID:10000128-1656547200-1656633599@valldagolf.se
SUMMARY:Damgolfen
DESCRIPTION:
URL:https://valldagolf.se/event/damgolfen/2022-06-30/
END:VEVENT
BEGIN:VEVENT
DTSTART;VALUE=DATE:20220701
DTEND;VALUE=DATE:20220702
DTSTAMP:20260421T143701
CREATED:20220422T150436Z
LAST-MODIFIED:20220422T150436Z
UID:10000021-1656633600-1656719999@valldagolf.se
SUMMARY:Fredagsgolfen (juniorer)
DESCRIPTION:
URL:https://valldagolf.se/event/fredagsgolfen-juniorer/2022-07-01/
END:VEVENT
BEGIN:VEVENT
DTSTART;TZID=Europe/Stockholm:20220701T140000
DTEND;TZID=Europe/Stockholm:20220701T151000
DTSTAMP:20260421T143701
CREATED:20220422T151738Z
LAST-MODIFIED:20220919T075738Z
UID:10000060-1656684000-1656688200@valldagolf.se
SUMMARY:Seriespel H60 starttid: 14.00-15.10
DESCRIPTION:
URL:https://valldagolf.se/event/seriespel-h60-starttid-14-00-15-10/
END:VEVENT
BEGIN:VEVENT
DTSTART;VALUE=DATE:20220707
DTEND;VALUE=DATE:20220708
DTSTAMP:20260421T143701
CREATED:20220422T150347Z
LAST-MODIFIED:20220422T150347Z
UID:10000129-1657152000-1657238399@valldagolf.se
SUMMARY:Damgolfen
DESCRIPTION:
URL:https://valldagolf.se/event/damgolfen/2022-07-07/
END:VEVENT
BEGIN:VEVENT
DTSTART;VALUE=DATE:20220708
DTEND;VALUE=DATE:20220709
DTSTAMP:20260421T143701
CREATED:20220422T150436Z
LAST-MODIFIED:20220422T150436Z
UID:10000022-1657238400-1657324799@valldagolf.se
SUMMARY:Fredagsgolfen (juniorer)
DESCRIPTION:
URL:https://valldagolf.se/event/fredagsgolfen-juniorer/2022-07-08/
END:VEVENT
BEGIN:VEVENT
DTSTART;VALUE=DATE:20220714
DTEND;VALUE=DATE:20220715
DTSTAMP:20260421T143701
CREATED:20220422T150347Z
LAST-MODIFIED:20220422T150347Z
UID:10000130-1657756800-1657843199@valldagolf.se
SUMMARY:Damgolfen
DESCRIPTION:
URL:https://valldagolf.se/event/damgolfen/2022-07-14/
END:VEVENT
BEGIN:VEVENT
DTSTART;VALUE=DATE:20220715
DTEND;VALUE=DATE:20220716
DTSTAMP:20260421T143701
CREATED:20220422T150436Z
LAST-MODIFIED:20220422T150436Z
UID:10000023-1657843200-1657929599@valldagolf.se
SUMMARY:Fredagsgolfen (juniorer)
DESCRIPTION:
URL:https://valldagolf.se/event/fredagsgolfen-juniorer/2022-07-15/
END:VEVENT
BEGIN:VEVENT
DTSTART;VALUE=DATE:20220721
DTEND;VALUE=DATE:20220722
DTSTAMP:20260421T143701
CREATED:20220422T150347Z
LAST-MODIFIED:20220422T150347Z
UID:10000131-1658361600-1658447999@valldagolf.se
SUMMARY:Damgolfen
DESCRIPTION:
URL:https://valldagolf.se/event/damgolfen/2022-07-21/
END:VEVENT
BEGIN:VEVENT
DTSTART;VALUE=DATE:20220722
DTEND;VALUE=DATE:20220723
DTSTAMP:20260421T143701
CREATED:20220422T150436Z
LAST-MODIFIED:20220422T150436Z
UID:10000024-1658448000-1658534399@valldagolf.se
SUMMARY:Fredagsgolfen (juniorer)
DESCRIPTION:
URL:https://valldagolf.se/event/fredagsgolfen-juniorer/2022-07-22/
END:VEVENT
BEGIN:VEVENT
DTSTART;VALUE=DATE:20220728
DTEND;VALUE=DATE:20220729
DTSTAMP:20260421T143701
CREATED:20220422T150347Z
LAST-MODIFIED:20220422T150347Z
UID:10000132-1658966400-1659052799@valldagolf.se
SUMMARY:Damgolfen
DESCRIPTION:
URL:https://valldagolf.se/event/damgolfen/2022-07-28/
END:VEVENT
BEGIN:VEVENT
DTSTART;VALUE=DATE:20220729
DTEND;VALUE=DATE:20220730
DTSTAMP:20260421T143701
CREATED:20220422T150436Z
LAST-MODIFIED:20220422T150436Z
UID:10000025-1659052800-1659139199@valldagolf.se
SUMMARY:Fredagsgolfen (juniorer)
DESCRIPTION:
URL:https://valldagolf.se/event/fredagsgolfen-juniorer/2022-07-29/
END:VEVENT
BEGIN:VEVENT
DTSTART;VALUE=DATE:20220804
DTEND;VALUE=DATE:20220805
DTSTAMP:20260421T143701
CREATED:20220422T150347Z
LAST-MODIFIED:20220422T150347Z
UID:10000133-1659571200-1659657599@valldagolf.se
SUMMARY:Damgolfen
DESCRIPTION:
URL:https://valldagolf.se/event/damgolfen/2022-08-04/
END:VEVENT
BEGIN:VEVENT
DTSTART;VALUE=DATE:20220805
DTEND;VALUE=DATE:20220806
DTSTAMP:20260421T143701
CREATED:20220422T150436Z
LAST-MODIFIED:20220422T150436Z
UID:10000026-1659657600-1659743999@valldagolf.se
SUMMARY:Fredagsgolfen (juniorer)
DESCRIPTION:
URL:https://valldagolf.se/event/fredagsgolfen-juniorer/2022-08-05/
END:VEVENT
BEGIN:VEVENT
DTSTART;VALUE=DATE:20220806
DTEND;VALUE=DATE:20220807
DTSTAMP:20260421T143701
CREATED:20220422T151756Z
LAST-MODIFIED:20220422T151756Z
UID:10000059-1659744000-1659830399@valldagolf.se
SUMMARY:Mixed Challenge
DESCRIPTION:
URL:https://valldagolf.se/event/mixed-challenge/
END:VEVENT
BEGIN:VEVENT
DTSTART;VALUE=DATE:20220811
DTEND;VALUE=DATE:20220812
DTSTAMP:20260421T143701
CREATED:20220422T150347Z
LAST-MODIFIED:20220422T150347Z
UID:10000134-1660176000-1660262399@valldagolf.se
SUMMARY:Damgolfen
DESCRIPTION:
URL:https://valldagolf.se/event/damgolfen/2022-08-11/
END:VEVENT
BEGIN:VEVENT
DTSTART;VALUE=DATE:20220812
DTEND;VALUE=DATE:20220813
DTSTAMP:20260421T143701
CREATED:20220422T150436Z
LAST-MODIFIED:20220422T150436Z
UID:10000027-1660262400-1660348799@valldagolf.se
SUMMARY:Fredagsgolfen (juniorer)
DESCRIPTION:
URL:https://valldagolf.se/event/fredagsgolfen-juniorer/2022-08-12/
END:VEVENT
BEGIN:VEVENT
DTSTART;TZID=Europe/Stockholm:20220812T133000
DTEND;TZID=Europe/Stockholm:20220812T152000
DTSTAMP:20260421T143701
CREATED:20220422T151822Z
LAST-MODIFIED:20220919T080245Z
UID:10000068-1660311000-1660317600@valldagolf.se
SUMMARY:Seriespel D50 starttid: 13.30-15.20
DESCRIPTION:
URL:https://valldagolf.se/event/seriespel-d50-starttid-13-30-15-20/
END:VEVENT
BEGIN:VEVENT
DTSTART;VALUE=DATE:20220818
DTEND;VALUE=DATE:20220819
DTSTAMP:20260421T143701
CREATED:20220422T150347Z
LAST-MODIFIED:20220422T150347Z
UID:10000135-1660780800-1660867199@valldagolf.se
SUMMARY:Damgolfen
DESCRIPTION:
URL:https://valldagolf.se/event/damgolfen/2022-08-18/
END:VEVENT
BEGIN:VEVENT
DTSTART;VALUE=DATE:20220819
DTEND;VALUE=DATE:20220820
DTSTAMP:20260421T143701
CREATED:20220422T150436Z
LAST-MODIFIED:20220422T150436Z
UID:10000028-1660867200-1660953599@valldagolf.se
SUMMARY:Fredagsgolfen (juniorer)
DESCRIPTION:
URL:https://valldagolf.se/event/fredagsgolfen-juniorer/2022-08-19/
END:VEVENT
BEGIN:VEVENT
DTSTART;VALUE=DATE:20220820
DTEND;VALUE=DATE:20220822
DTSTAMP:20260421T143701
CREATED:20220422T151846Z
LAST-MODIFIED:20220422T151846Z
UID:10000057-1660953600-1661126399@valldagolf.se
SUMMARY:aug KM
DESCRIPTION:
URL:https://valldagolf.se/event/aug-km/
END:VEVENT
BEGIN:VEVENT
DTSTART;VALUE=DATE:20220825
DTEND;VALUE=DATE:20220826
DTSTAMP:20260421T143701
CREATED:20220422T150347Z
LAST-MODIFIED:20220422T150347Z
UID:10000136-1661385600-1661471999@valldagolf.se
SUMMARY:Damgolfen
DESCRIPTION:
URL:https://valldagolf.se/event/damgolfen/2022-08-25/
END:VEVENT
BEGIN:VEVENT
DTSTART;VALUE=DATE:20220825
DTEND;VALUE=DATE:20220826
DTSTAMP:20260421T143701
CREATED:20220422T151902Z
LAST-MODIFIED:20220422T151902Z
UID:10000056-1661385600-1661471999@valldagolf.se
SUMMARY:Bauhaus (företagsgolf)
DESCRIPTION:
URL:https://valldagolf.se/event/bauhaus-foretagsgolf/
END:VEVENT
BEGIN:VEVENT
DTSTART;VALUE=DATE:20220826
DTEND;VALUE=DATE:20220827
DTSTAMP:20260421T143701
CREATED:20220422T150436Z
LAST-MODIFIED:20220422T150436Z
UID:10000029-1661472000-1661558399@valldagolf.se
SUMMARY:Fredagsgolfen (juniorer)
DESCRIPTION:
URL:https://valldagolf.se/event/fredagsgolfen-juniorer/2022-08-26/
END:VEVENT
BEGIN:VEVENT
DTSTART;VALUE=DATE:20220826
DTEND;VALUE=DATE:20220827
DTSTAMP:20260421T143701
CREATED:20220422T151918Z
LAST-MODIFIED:20220422T151918Z
UID:10000037-1661472000-1661558399@valldagolf.se
SUMMARY:Bofint (företagsgolf)
DESCRIPTION:
URL:https://valldagolf.se/event/bofint-foretagsgolf/
END:VEVENT
BEGIN:VEVENT
DTSTART;VALUE=DATE:20220827
DTEND;VALUE=DATE:20220828
DTSTAMP:20260421T143701
CREATED:20220422T151940Z
LAST-MODIFIED:20220422T151940Z
UID:10000038-1661558400-1661644799@valldagolf.se
SUMMARY:Event Lyxells
DESCRIPTION:
URL:https://valldagolf.se/event/event-lyxells-4/
END:VEVENT
BEGIN:VEVENT
DTSTART;VALUE=DATE:20220831
DTEND;VALUE=DATE:20220901
DTSTAMP:20260421T143701
CREATED:20220422T152000Z
LAST-MODIFIED:20220422T152000Z
UID:10000039-1661904000-1661990399@valldagolf.se
SUMMARY:Ntex (företagsgolf)
DESCRIPTION:
URL:https://valldagolf.se/event/ntex-foretagsgolf/
END:VEVENT
END:VCALENDAR